BEGIN:VCALENDAR
VERSION:2.0
PRODID:-//Pretty &amp; Healthy - ECPv6.15.20//NONSGML v1.0//EN
CALSCALE:GREGORIAN
METHOD:PUBLISH
X-ORIGINAL-URL:https://prettyandhealthy.life
X-WR-CALDESC:Events for Pretty &amp; Healthy
REFRESH-INTERVAL;VALUE=DURATION:PT1H
X-Robots-Tag:noindex
X-PUBLISHED-TTL:PT1H
BEGIN:VTIMEZONE
TZID:UTC
BEGIN:STANDARD
TZOFFSETFROM:+0000
TZOFFSETTO:+0000
TZNAME:UTC
DTSTART:20240101T000000
END:STANDARD
END:VTIMEZONE
BEGIN:VEVENT
DTSTART;TZID=UTC:20251217T150000
DTEND;TZID=UTC:20251217T180000
DTSTAMP:20260421T103237
CREATED:20251217T082033Z
LAST-MODIFIED:20251218T140730Z
UID:6348-1765983600-1765994400@prettyandhealthy.life
SUMMARY:LA FITNESS POP UP
DESCRIPTION:Come join Pretty & Healthy for Pilates at LA Fitness . Sip on Pretty & Healthy Cold Pressed wellness  juices and shots crafted to fuel your movement and elevate your glow. \n  \nContact LA Fitness  for free Intro Class\,  or membership pricing.
URL:https://prettyandhealthy.life/event/food-truck/
LOCATION:240  NJ – 17 N\, 240 NJ- 17 N\, PARAMUS\, NJ\, 07652
CATEGORIES:LA FITNESS POP UP
ORGANIZER;CN="Pretty & Healthy":MAILTO:prettyhealthydetox@gmail.com
END:VEVENT
BEGIN:VEVENT
DTSTART;TZID=UTC:20251216T160000
DTEND;TZID=UTC:20251216T180000
DTSTAMP:20260421T103237
CREATED:20251218T140133Z
LAST-MODIFIED:20251218T140133Z
UID:6361-1765900800-1765908000@prettyandhealthy.life
SUMMARY:LA FITNESS POP UP
DESCRIPTION:Come join Pretty & Healthy for Pilates at LA Fitness . Sip on Pretty & Healthy Cold Pressed wellness  juices and shots crafted to fuel your movement and elevate your glow. \n  \nContact LA Fitness  for free Intro Class\,  or membership pricing.
URL:https://prettyandhealthy.life/event/la-fitness-pop-up/
LOCATION:199 main street\, 199 Main street\, Lodi\, NJ\, 07644\, United States
CATEGORIES:LA FITNESS POP UP
END:VEVENT
END:VCALENDAR